BEGIN:VCALENDAR
VERSION:2.0
PRODID:-//The Unexpected Traveller - ECPv6.15.20//NONSGML v1.0//EN
CALSCALE:GREGORIAN
METHOD:PUBLISH
X-ORIGINAL-URL:http://www.unexpectedtraveller.com
X-WR-CALDESC:Events for The Unexpected Traveller
REFRESH-INTERVAL;VALUE=DURATION:PT1H
X-Robots-Tag:noindex
X-PUBLISHED-TTL:PT1H
BEGIN:VTIMEZONE
TZID:Europe/Prague
BEGIN:DAYLIGHT
TZOFFSETFROM:+0100
TZOFFSETTO:+0200
TZNAME:CEST
DTSTART:20240331T010000
END:DAYLIGHT
BEGIN:STANDARD
TZOFFSETFROM:+0200
TZOFFSETTO:+0100
TZNAME:CET
DTSTART:20241027T010000
END:STANDARD
BEGIN:DAYLIGHT
TZOFFSETFROM:+0100
TZOFFSETTO:+0200
TZNAME:CEST
DTSTART:20250330T010000
END:DAYLIGHT
BEGIN:STANDARD
TZOFFSETFROM:+0200
TZOFFSETTO:+0100
TZNAME:CET
DTSTART:20251026T010000
END:STANDARD
BEGIN:DAYLIGHT
TZOFFSETFROM:+0100
TZOFFSETTO:+0200
TZNAME:CEST
DTSTART:20260329T010000
END:DAYLIGHT
BEGIN:STANDARD
TZOFFSETFROM:+0200
TZOFFSETTO:+0100
TZNAME:CET
DTSTART:20261025T010000
END:STANDARD
BEGIN:DAYLIGHT
TZOFFSETFROM:+0100
TZOFFSETTO:+0200
TZNAME:CEST
DTSTART:20270328T010000
END:DAYLIGHT
BEGIN:STANDARD
TZOFFSETFROM:+0200
TZOFFSETTO:+0100
TZNAME:CET
DTSTART:20271031T010000
END:STANDARD
END:VTIMEZONE
BEGIN:VEVENT
DTSTART;TZID=Europe/Prague:20251018T000000
DTEND;TZID=Europe/Prague:20260421T235959
DTSTAMP:20260423T223524
CREATED:20251023T083118Z
LAST-MODIFIED:20251023T083120Z
UID:19365-1760745600-1776815999@www.unexpectedtraveller.com
SUMMARY:Body Worlds
DESCRIPTION:I’m excited about Gunther von Hagens’ Body Worlds exhibition; partially because I missed it when it was in Prague\, and partially because I’m fascinated by the idea of plastination. The exhibition is as entertaining as it is educational\, showing how the human body works and functions in an eye-popping way. It’s at Westfield Chodov shopping mall\, so it’s open when the mall is\, but you still need tickets for entry.
URL:http://www.unexpectedtraveller.com/prague-event/body-worlds/
LOCATION:Westfield Chodov\, Roztylská 2321/19\, Praha 11-Chodov\, Prague\, 148 00\, Czech Republic
ATTACH;FMTTYPE=image/jpeg:http://www.unexpectedtraveller.com/wp-content/uploads/2025/10/body-worlds.jpg
END:VEVENT
BEGIN:VEVENT
DTSTART;TZID=Europe/Prague:20251128T000000
DTEND;TZID=Europe/Prague:20260831T235959
DTSTAMP:20260423T223524
CREATED:20260209T060000Z
LAST-MODIFIED:20260128T175656Z
UID:20342-1764288000-1788220799@www.unexpectedtraveller.com
SUMMARY:Františka Plamínková and Us
DESCRIPTION:Like most expats\, a large amount of Czech history is new to me. I had no idea of the drive and determination that Františka Plamínková had\, or of the huge and positive effect she had on the nascent Czechoslovakia. Her work as a feminist is documented in this small but highly valuable exhibition that’s running until the end of August 2026. \n\n\n\n(The museum is open daily from 10:00 – 18:00) \n\n\n\n\n\n\n\nWondering how we choose what to list? The Bon Vivant guarantee explains all!
URL:http://www.unexpectedtraveller.com/prague-event/frantiska-plaminkova-and-us/
LOCATION:New Building of the National Museum\, Vinohradská 52/1\,\, Vinohrady\, Prague\, 110 00\, Czech Republic
ATTACH;FMTTYPE=image/jpeg:http://www.unexpectedtraveller.com/wp-content/uploads/2026/01/Plaminkova_resized.jpg
END:VEVENT
BEGIN:VEVENT
DTSTART;TZID=Europe/Prague:20260101T000000
DTEND;TZID=Europe/Prague:20260522T235959
DTSTAMP:20260423T223524
CREATED:20260119T175952Z
LAST-MODIFIED:20260119T175954Z
UID:20224-1767225600-1779494399@www.unexpectedtraveller.com
SUMMARY:Titanic - The artifact exhibition
DESCRIPTION:Touring the world with genuine artifacts and real passenger stories\, this exhibition makes sure the Titanic’s memory will continue to live long after we’ve forgotten James Cameron’s 90s blockbuster. There also are reconstructions of the first- and third-class cabins so this isn’t just a collection of a few random things. I’m looking forward to this and since it’s open till May\, there’s plenty of time for it. \n\n\n\n\n\n\n\nWondering how we choose what to list? The Bon Vivant guarantee explains all!
URL:http://www.unexpectedtraveller.com/prague-event/titanic-the-artifact-exhibition/
LOCATION:PVA Expo Praha\, Beranových 667\, Prague\, Praha 9\, 199 00\, Czech Republic
ATTACH;FMTTYPE=image/jpeg:http://www.unexpectedtraveller.com/wp-content/uploads/2026/01/titanic_resized.jpg
END:VEVENT
BEGIN:VEVENT
DTSTART;TZID=Europe/Prague:20260317T000000
DTEND;TZID=Europe/Prague:20260422T235959
DTSTAMP:20260423T223524
CREATED:20260406T050000Z
LAST-MODIFIED:20260323T112745Z
UID:21127-1773705600-1776902399@www.unexpectedtraveller.com
SUMMARY:Restaurant week
DESCRIPTION:The inaccurately named “Restaurant week” (which actually lasts all month) is in full swing in Prague at the moment. We can forgive them the lapse in timing because the ability to try out new restaurants\, new dishes and new options is a great way to discover the hidden culinary talents the city has to offer. And\, frankly\, a wonderful way to re-discover old favourites too. Options with participating restaurants disappear quckly\, so book early. \n\n\n\n\n\n\n\nWondering how we choose what to list? The Bon Vivant guarantee explains all!
URL:http://www.unexpectedtraveller.com/prague-event/restaurant-week/
LOCATION:Prague
ATTACH;FMTTYPE=image/jpeg:http://www.unexpectedtraveller.com/wp-content/uploads/2025/09/sansho.jpg
END:VEVENT
BEGIN:VEVENT
DTSTART;TZID=Europe/Prague:20260416T190000
DTEND;TZID=Europe/Prague:20260416T210000
DTSTAMP:20260423T223524
CREATED:20260216T173508Z
LAST-MODIFIED:20260216T173510Z
UID:20643-1776366000-1776373200@www.unexpectedtraveller.com
SUMMARY:Gamazda: Piano Rewind
DESCRIPTION:The YouTuber known as Gamazda – Aleksandra Kuznetsova\, to you and me – built her YouTube channel following her classical education at the Tchaikovsky conservatory. With 1 million subscribers\, she took her music to the road and has played sold-out concerts across Europe. She’ll be in Prague later this year\, and tickets are selling fast. \n\n\n\n\n\n\n\nWondering how we choose what to list? The Bon Vivant guarantee explains all!
URL:http://www.unexpectedtraveller.com/prague-event/gamazda-piano-rewind/
LOCATION:Nová Spirála\, Výstaviště 170/00\, Bubeneč\, Prague\, 170 00\, Czech Republic
ATTACH;FMTTYPE=image/jpeg:http://www.unexpectedtraveller.com/wp-content/uploads/2026/02/gamazda_resized.jpg
END:VEVENT
BEGIN:VEVENT
DTSTART;TZID=Europe/Prague:20260418T193000
DTEND;TZID=Europe/Prague:20260418T220000
DTSTAMP:20260423T223524
CREATED:20260413T050500Z
LAST-MODIFIED:20260328T143504Z
UID:21351-1776540600-1776549600@www.unexpectedtraveller.com
SUMMARY:The music of John Williams
DESCRIPTION:John Williams and Hans Zimmer are two great contemporary composers whose music is the reminder of so many moments of cinematic wonder. Perhaps because Williams collaborates so often with Speilberg\, his music resonates through so many family favourites. Prague’s Film Philharmonic will host an evening of John Williams’ music\, and of all our memories\, at the stunning Rudolfinum this Sunday. Tickets selling fast! \n\n\n\n\n\n\n\nWondering how we choose what to list? The Bon Vivant guarantee explains all!
URL:http://www.unexpectedtraveller.com/prague-event/the-music-of-john-williams/
LOCATION:Rudolfinum\, Alšovo nábřezi 79/12\, Staré město\, Prague\, 110 00\, Czech Republic
ATTACH;FMTTYPE=image/jpeg:http://www.unexpectedtraveller.com/wp-content/uploads/2026/03/Williams_resized.jpg
END:VEVENT
BEGIN:VEVENT
DTSTART;TZID=Europe/Prague:20260504T190000
DTEND;TZID=Europe/Prague:20260504T210000
DTSTAMP:20260423T223524
CREATED:20260105T070000Z
LAST-MODIFIED:20251221T125851Z
UID:19914-1777921200-1777928400@www.unexpectedtraveller.com
SUMMARY:Eric Clapton
DESCRIPTION:Rock god Eric Clapton will delight crowds in Prague in Spring as part of his current European tour. I’m not surprised to see that tickets are selling out fast – it’s Clapton we’re talking about! – so bag a few great seats now before there’s none left!
URL:http://www.unexpectedtraveller.com/prague-event/eric-clapton/
LOCATION:O2 Arena\, Českomoravská 2345/17a\, Prague 9\, Prague\, 190 00\, Czech Republic
ATTACH;FMTTYPE=image/jpeg:http://www.unexpectedtraveller.com/wp-content/uploads/2025/12/clapton_resized.jpg
END:VEVENT
BEGIN:VEVENT
DTSTART;TZID=Europe/Prague:20260520T190000
DTEND;TZID=Europe/Prague:20260520T210000
DTSTAMP:20260423T223524
CREATED:20260420T051000Z
LAST-MODIFIED:20260408T131340Z
UID:21552-1779303600-1779310800@www.unexpectedtraveller.com
SUMMARY:ISMO: Perseverance tour
DESCRIPTION:Finnish comedy genius Ismo had us rolling in the aisles at his Prague comedy show a few years ago\, so I can’t be the only one who’s glad he’s put the Bohemian capital on his latest tour. It’s a bigger venue than last time\, reflecting his popularity and the Prague’s demand for great stand up comedy. Tickets still available as of time of writing. \n\n\n\n\n\n\n\nWondering how we choose what to list? The Bon Vivant guarantee explains all!
URL:http://www.unexpectedtraveller.com/prague-event/ismo-perseverance-tour/
LOCATION:Divadlo Hybernia\, Náměstí Republiky 3/4\, Nové Město\, Prague\, 110 00\, Czech Republic
ATTACH;FMTTYPE=image/jpeg:http://www.unexpectedtraveller.com/wp-content/uploads/2026/04/ismo_resized.jpg
END:VEVENT
BEGIN:VEVENT
DTSTART;TZID=Europe/Prague:20260904T193000
DTEND;TZID=Europe/Prague:20260904T213000
DTSTAMP:20260423T223524
CREATED:20260223T060200Z
LAST-MODIFIED:20260220T165818Z
UID:20736-1788550200-1788557400@www.unexpectedtraveller.com
SUMMARY:Brian Cox – Emergence
DESCRIPTION:Renowned particle physicist (and ex-keyboard player for D:Ream) has made a name for himself on podcasts and TV with his easy explanations about how the world works. This tour is a celebration of the intricacy of the Universe and an exploration of the laws of nature that sculpted it. From the largest structures in the known Universe down to quantum theory and string theory\, this September Cox will explain to Prague why human life is “simultaneously so irrelevant and hugely precious”. \n\n\n\n\n\n\n\nWondering how we choose what to list? The Bon Vivant guarantee explains all!
URL:http://www.unexpectedtraveller.com/prague-event/brian-cox-emergence/
LOCATION:Prague Congress Centre\, 5. května 1640/65\, Nusle\, Prague\, 140 21\, Czech Republic
ATTACH;FMTTYPE=image/jpeg:http://www.unexpectedtraveller.com/wp-content/uploads/2026/02/cox_resized.jpg
END:VEVENT
BEGIN:VEVENT
DTSTART;TZID=Europe/Prague:20260921T200000
DTEND;TZID=Europe/Prague:20260921T220000
DTSTAMP:20260423T223524
CREATED:20260302T060100Z
LAST-MODIFIED:20260128T180024Z
UID:20286-1790020800-1790028000@www.unexpectedtraveller.com
SUMMARY:Daniel Sloss - Bitter
DESCRIPTION:Scottish Daniel Sloss (from many Netflix and HBO specials) will be back in Prague later this year with his new comedy show\, Bitter. His last Prague show was incredibly popular\, and tickets are already running out!  \n\n\n\n\n\n\n\nWondering how we choose what to list? The Bon Vivant guarantee explains all!
URL:http://www.unexpectedtraveller.com/prague-event/daniel-sloss-bitter/
LOCATION:Forum Karlin\, Pernerova 51\, Karlin\, Prague\, 186 00\, Czech Republic
ATTACH;FMTTYPE=image/jpeg:http://www.unexpectedtraveller.com/wp-content/uploads/2026/01/sloss_resized.jpg
END:VEVENT
END:VCALENDAR