BEGIN:VCALENDAR
VERSION:2.0
PRODID:-//The Unexpected Traveller - ECPv6.15.20//NONSGML v1.0//EN
CALSCALE:GREGORIAN
METHOD:PUBLISH
X-WR-CALNAME:The Unexpected Traveller
X-ORIGINAL-URL:http://www.unexpectedtraveller.com
X-WR-CALDESC:Events for The Unexpected Traveller
REFRESH-INTERVAL;VALUE=DURATION:PT1H
X-Robots-Tag:noindex
X-PUBLISHED-TTL:PT1H
BEGIN:VTIMEZONE
TZID:Europe/Prague
BEGIN:DAYLIGHT
TZOFFSETFROM:+0100
TZOFFSETTO:+0200
TZNAME:CEST
DTSTART:20240331T010000
END:DAYLIGHT
BEGIN:STANDARD
TZOFFSETFROM:+0200
TZOFFSETTO:+0100
TZNAME:CET
DTSTART:20241027T010000
END:STANDARD
BEGIN:DAYLIGHT
TZOFFSETFROM:+0100
TZOFFSETTO:+0200
TZNAME:CEST
DTSTART:20250330T010000
END:DAYLIGHT
BEGIN:STANDARD
TZOFFSETFROM:+0200
TZOFFSETTO:+0100
TZNAME:CET
DTSTART:20251026T010000
END:STANDARD
BEGIN:DAYLIGHT
TZOFFSETFROM:+0100
TZOFFSETTO:+0200
TZNAME:CEST
DTSTART:20260329T010000
END:DAYLIGHT
BEGIN:STANDARD
TZOFFSETFROM:+0200
TZOFFSETTO:+0100
TZNAME:CET
DTSTART:20261025T010000
END:STANDARD
BEGIN:DAYLIGHT
TZOFFSETFROM:+0100
TZOFFSETTO:+0200
TZNAME:CEST
DTSTART:20270328T010000
END:DAYLIGHT
BEGIN:STANDARD
TZOFFSETFROM:+0200
TZOFFSETTO:+0100
TZNAME:CET
DTSTART:20271031T010000
END:STANDARD
END:VTIMEZONE
BEGIN:VEVENT
DTSTART;TZID=Europe/Prague:20251106T200000
DTEND;TZID=Europe/Prague:20251106T220000
DTSTAMP:20260424T022318
CREATED:20251027T080000Z
LAST-MODIFIED:20251003T075545Z
UID:19190-1762459200-1762466400@www.unexpectedtraveller.com
SUMMARY:Roxette in Concert
DESCRIPTION:80’s/90’s Swedish pop group Roxette will bring their energy – and some nostalgia – to Prague this November. While it will be different after Marie’s death\, fans have reacted positively to Lena Philipsson’s addition to the band. Their greatest hits coloured the summers of my youth\, so this will be a night to remember. Tickets are being snapped up\, so hurry!
URL:http://www.unexpectedtraveller.com/prague-event/roxette-in-concert/
LOCATION:O2 Arena\, Českomoravská 2345/17a\, Prague 9\, Prague\, 190 00\, Czech Republic
ATTACH;FMTTYPE=image/jpeg:http://www.unexpectedtraveller.com/wp-content/uploads/2025/10/roxette700.jpg
END:VEVENT
BEGIN:VEVENT
DTSTART;TZID=Europe/Prague:20251017T200000
DTEND;TZID=Europe/Prague:20251017T220000
DTSTAMP:20260424T022318
CREATED:20251013T070000Z
LAST-MODIFIED:20250915T083726Z
UID:19062-1760731200-1760738400@www.unexpectedtraveller.com
SUMMARY:Diana Krall
DESCRIPTION:Jazz lovers are in for a treat. Two-time Grammy winner Diana Krall will be in Prague tomorrow evening bringing a great start to an autumnal weekend. Available tickets are reasonably priced for what it is.
URL:http://www.unexpectedtraveller.com/prague-event/diana-krall/
LOCATION:Prague Congress Centre\, 5. května 1640/65\, Nusle\, Prague\, 140 21\, Czech Republic
ATTACH;FMTTYPE=image/png:http://www.unexpectedtraveller.com/wp-content/uploads/2025/09/d-k.png
END:VEVENT
BEGIN:VEVENT
DTSTART;TZID=Europe/Prague:20251016T193000
DTEND;TZID=Europe/Prague:20251016T210000
DTSTAMP:20260424T022318
CREATED:20250929T070000Z
LAST-MODIFIED:20251003T092110Z
UID:19059-1760643000-1760648400@www.unexpectedtraveller.com
SUMMARY:Placido Domingo - Opera Legend
DESCRIPTION:Spanish opera legend Placido Domingo is set to wow audiences in Prague with selections from well-known operas. He will perform excerpts from Verdi to Puccini as well as many others in an 80-minute show in Prague’s Rudolfinum. The cheap tickets were snapped up\, making this a pricey\, if one-of-a-kind\, evening.
URL:http://www.unexpectedtraveller.com/prague-event/placido-domingo-opera-legend/
LOCATION:Rudolfinum\, Alšovo nábřezi 79/12\, Staré město\, Prague\, 110 00\, Czech Republic
ATTACH;FMTTYPE=image/jpeg:http://www.unexpectedtraveller.com/wp-content/uploads/2025/09/Domingo.jpg
END:VEVENT
BEGIN:VEVENT
DTSTART;TZID=Europe/Prague:20251013T200000
DTEND;TZID=Europe/Prague:20251013T220000
DTSTAMP:20260424T022318
CREATED:20250714T174233Z
LAST-MODIFIED:20250721T172351Z
UID:18428-1760385600-1760392800@www.unexpectedtraveller.com
SUMMARY:Daniel Sloss - New work in progress
DESCRIPTION:Scottish comedian Daniel Sloss returns to Prague later this year with his new show. If you like deadpan delivery and slow-burn setups in your comedy\, this is the kind of show to go to. There’s still some tickets left\, so act fast!
URL:http://www.unexpectedtraveller.com/prague-event/daniel-sloss-new-work-in-progress/
LOCATION:Divadlo Hybernia\, Náměstí Republiky 3/4\, Nové Město\, Prague\, 110 00\, Czech Republic
ATTACH;FMTTYPE=image/jpeg:http://www.unexpectedtraveller.com/wp-content/uploads/2025/07/sloss.jpg
END:VEVENT
BEGIN:VEVENT
DTSTART;TZID=Europe/Prague:20251004T190000
DTEND;TZID=Europe/Prague:20251004T210000
DTSTAMP:20260424T022319
CREATED:20250915T070000Z
LAST-MODIFIED:20250909T080449Z
UID:19000-1759604400-1759611600@www.unexpectedtraveller.com
SUMMARY:Ricky Gervais: Mortality
DESCRIPTION:Often described as the most influential comedian since Chaplin\, Gervais brings his latest record-breaking tour\, Mortality\, to Prague next month. His brand of comedy is not for everyone\, but the record numbers who see him live shows that “not for everyone” is still “thousands of people”. Very few tickets left as of time of writing.
URL:http://www.unexpectedtraveller.com/prague-event/ricky-gervais-mortality/
LOCATION:O2 Arena\, Českomoravská 2345/17a\, Prague 9\, Prague\, 190 00\, Czech Republic
ATTACH;FMTTYPE=image/jpeg:http://www.unexpectedtraveller.com/wp-content/uploads/2025/09/gervais.jpg
END:VEVENT
BEGIN:VEVENT
DTSTART;TZID=Europe/Prague:20250920T093000
DTEND;TZID=Europe/Prague:20250920T170000
DTSTAMP:20260424T022319
CREATED:20250909T084154Z
LAST-MODIFIED:20250909T084156Z
UID:19011-1758360600-1758387600@www.unexpectedtraveller.com
SUMMARY:Tour of Prague's sewers
DESCRIPTION:Prague will host tours of the city’s massive sewerage system for one day only! Tours are short – 20 minutes every half-hour – and you’ll find out how Prague handles the massive volumes of rainwater and sewage. Built ceniuries ago\, the tour of the underground sewers (Link in Czech) promises to be impressive. You must register in advance here (link in Czech)
URL:http://www.unexpectedtraveller.com/prague-event/tour-of-pragues-sewers/
LOCATION:Old town hall\, Staroměstské nám. 1/3\, Staré Město\, Prague\, 110 00\, Czech Republic
ATTACH;FMTTYPE=image/png:http://www.unexpectedtraveller.com/wp-content/uploads/2025/09/sewer.png
END:VEVENT
BEGIN:VEVENT
DTSTART;TZID=Europe/Prague:20250918T193000
DTEND;TZID=Europe/Prague:20250918T210000
DTSTAMP:20260424T022319
CREATED:20250825T183957Z
LAST-MODIFIED:20250825T183959Z
UID:18895-1758223800-1758229200@www.unexpectedtraveller.com
SUMMARY:The Secret of Secrets
DESCRIPTION:Dan Brown will launch his new Robert Langdon book at Lucerna’s grand hall next month. The book is set in Prague and Netflix has already greenlit production of a series based on the book. While he will not sign books\, he will talk about the book\, his writing and why he chose Prague as a location. Tickets are limited but a few are still available.
URL:http://www.unexpectedtraveller.com/prague-event/the-secret-of-secrets/
LOCATION:Lucerna’s Grand Hall\, Štěpánská 61\, Nové Město\, Prague\, 110 00\, Czech Republic
ATTACH;FMTTYPE=image/jpeg:http://www.unexpectedtraveller.com/wp-content/uploads/2025/08/d-brown.jpg
END:VEVENT
BEGIN:VEVENT
DTSTART;TZID=Europe/Prague:20250915T000000
DTEND;TZID=Europe/Prague:20250915T235959
DTSTAMP:20260424T022319
CREATED:20250811T070000Z
LAST-MODIFIED:20250809T104931Z
UID:18758-1757894400-1757980799@www.unexpectedtraveller.com
SUMMARY:F*** me\, I'm French!
DESCRIPTION:Paul Taylor brings his wit and observations about life in France to the stage. While usually a bilingual act\, his show in Prague will be in English. Which is a shame for any bilingual people in the audience who love his wordplay. The shows start at 19:00 on both days.
URL:http://www.unexpectedtraveller.com/prague-event/f-me-im-french/
LOCATION:Rock Cafe\, Národní 20\, Praha 1\, Prague\, 110 00\, Czech Republic
ATTACH;FMTTYPE=image/jpeg:http://www.unexpectedtraveller.com/wp-content/uploads/2025/08/PaulTaylor.jpg
END:VEVENT
BEGIN:VEVENT
DTSTART;TZID=Europe/Prague:20250912T000000
DTEND;TZID=Europe/Prague:20251231T235959
DTSTAMP:20260424T022319
CREATED:20251208T173941Z
LAST-MODIFIED:20251208T173943Z
UID:19792-1757635200-1767225599@www.unexpectedtraveller.com
SUMMARY:100 treasures\, 100 stories
DESCRIPTION:Taipei’s National Palace Museum has lent 100 precious items from its collection to the Czech National museum. Between ancient scrolls and jade carvings\, the curators have put together an incredible viewpoint on the Qing dynasty. I’ve missed this so far\, but since the loan runs out at the end of 2025\, I’d best hurry!
URL:http://www.unexpectedtraveller.com/prague-event/100-treasures-100-stories/
LOCATION:National Museum\, Václavské nám. 68\, Nové Město\, Prague\, 110 00\, Czech Republic
ATTACH;FMTTYPE=image/png:http://www.unexpectedtraveller.com/wp-content/uploads/2025/12/100t.png
END:VEVENT
BEGIN:VEVENT
DTSTART;TZID=Europe/Prague:20250907T200000
DTEND;TZID=Europe/Prague:20250907T220000
DTSTAMP:20260424T022319
CREATED:20250903T091232Z
LAST-MODIFIED:20250903T091234Z
UID:18954-1757275200-1757282400@www.unexpectedtraveller.com
SUMMARY:Robbie Williams: Live 2025
DESCRIPTION:British rock legend Robbie Williams is touring again and will be in Prague this Sunday. His reputation as a showman precedes him so the demand for tickets is high. As of time of writing\, there are – just about – a few tickets left\, so hurry!
URL:http://www.unexpectedtraveller.com/prague-event/robbie-williams-live-2025/
LOCATION:O2 Arena\, Českomoravská 2345/17a\, Prague 9\, Prague\, 190 00\, Czech Republic
ATTACH;FMTTYPE=image/jpeg:http://www.unexpectedtraveller.com/wp-content/uploads/2025/09/rw700.jpg
END:VEVENT
BEGIN:VEVENT
DTSTART;TZID=Europe/Prague:20250903T000000
DTEND;TZID=Europe/Prague:20251005T235959
DTSTAMP:20260424T022319
CREATED:20250728T070300Z
LAST-MODIFIED:20250804T161247Z
UID:18529-1756857600-1759708799@www.unexpectedtraveller.com
SUMMARY:KURIOS – Cabinet of Curiosities
DESCRIPTION:I’m looking forward to the gravity-defying Cirque du Soleil Cabinet of Curiosities performance later this summer. They’ll be in Prague for a month and will have multiple shows on weekends. That’s a measure of their popularity but there are plenty of tickets still available in various price ranges.
URL:http://www.unexpectedtraveller.com/prague-event/kurios-cabinet-of-curiosities/
LOCATION:Letna plain\, Letná\, Holešovice\, Prague\, 170 00\, Czech Republic
ATTACH;FMTTYPE=image/jpeg:http://www.unexpectedtraveller.com/wp-content/uploads/2025/07/cds.jpg
END:VEVENT
BEGIN:VEVENT
DTSTART;TZID=Europe/Prague:20250825T000000
DTEND;TZID=Europe/Prague:20251023T235959
DTSTAMP:20260424T022319
CREATED:20250922T070000Z
LAST-MODIFIED:20250912T085134Z
UID:19040-1756080000-1761263999@www.unexpectedtraveller.com
SUMMARY:Lucy and Salem
DESCRIPTION:When discovered\, the fossilised remains of Lucy changed our understanding of human evolution. We used to think that an increase in brain size led to walking upright and “being human”\, but Lucy showed it’s the other way round – walking upright led to an increase in our brains. Her remains are touring Europe for the first time and they started right here in Prague. The exhibition lasts till 23rd October and the museum is open till 8pm every day. Make sure you book in advance because the queues are long and they only let in a small number of people at a time.
URL:http://www.unexpectedtraveller.com/prague-event/lucy-and-salem/
LOCATION:National Museum\, Václavské nám. 68\, Nové Město\, Prague\, 110 00\, Czech Republic
ATTACH;FMTTYPE=image/jpeg:http://www.unexpectedtraveller.com/wp-content/uploads/2025/09/lucy.jpg
END:VEVENT
BEGIN:VEVENT
DTSTART;TZID=Europe/Prague:20250823T190000
DTEND;TZID=Europe/Prague:20250823T235900
DTSTAMP:20260424T022319
CREATED:20250818T171001Z
LAST-MODIFIED:20250818T171003Z
UID:18830-1755975600-1755993540@www.unexpectedtraveller.com
SUMMARY:Castle and chateau night
DESCRIPTION:For those of you who haven’t abandoned the city for a summer’s break\, there’s a treat coming up on Saturday. Dozens of Czech castles and chateaus will be open after dark with events\, tours and music. Things vary depending on the location but the wide list of participating venues (link in CZ) means you’ve got plenty of choice. Check the listings for your chosen destination for more information.
URL:http://www.unexpectedtraveller.com/prague-event/castle-and-chateau-night/
LOCATION:Praha 9
ATTACH;FMTTYPE=image/jpeg:http://www.unexpectedtraveller.com/wp-content/uploads/2025/08/loket.jpg
END:VEVENT
BEGIN:VEVENT
DTSTART;TZID=Europe/Prague:20250823T103000
DTEND;TZID=Europe/Prague:20250823T123000
DTSTAMP:20260424T022319
CREATED:20250804T161229Z
LAST-MODIFIED:20250809T104948Z
UID:18689-1755945000-1755952200@www.unexpectedtraveller.com
SUMMARY:Feminist walking tours of Prague
DESCRIPTION:I’ve taken many delightful walking tours of Prague. I’m always interested in how tour guides position themselves in what is admittedly a crowded market. French-born resident Avril Huck has chosen a feminist perspective on Czech (and Prague) history as her USP. Her limited tours are listed online so pick your favourite time slot and put on your walking shoes.
URL:http://www.unexpectedtraveller.com/prague-event/feminist-walking-tours-of-prague/
LOCATION:Praha 9
ATTACH;FMTTYPE=image/jpeg:http://www.unexpectedtraveller.com/wp-content/uploads/2025/08/ftop.jpg
END:VEVENT
BEGIN:VEVENT
DTSTART;TZID=Europe/Prague:20250821T210000
DTEND;TZID=Europe/Prague:20250821T230000
DTSTAMP:20260424T022319
CREATED:20250721T172335Z
LAST-MODIFIED:20250809T104955Z
UID:18507-1755810000-1755817200@www.unexpectedtraveller.com
SUMMARY:The Julian Hesse Quartet
DESCRIPTION:Jazz Dock’s year-long “Jazz from four continents” is a real commitment to showcasing live jazz from all over the world. The German Julian Hesse quartet mixes musicians from Europe and the US\, as well as all the musical influences that implies. They’ll deliver jazz on the waterfront in Prague next month.
URL:http://www.unexpectedtraveller.com/prague-event/the-julian-hesse-quartet/
LOCATION:Jazz Dock\, Janáčkovo nábřeží 2\, Smíchov\, Prague\, 150 00\, Czech Republic
ATTACH;FMTTYPE=image/jpeg:http://www.unexpectedtraveller.com/wp-content/uploads/2025/07/jhq.jpg
END:VEVENT
BEGIN:VEVENT
DTSTART;TZID=Europe/Prague:20250710T000000
DTEND;TZID=Europe/Prague:20250713T235959
DTSTAMP:20260424T022319
CREATED:20250707T092225Z
LAST-MODIFIED:20250714T174300Z
UID:18360-1752105600-1752451199@www.unexpectedtraveller.com
SUMMARY:French Market
DESCRIPTION:My favourite annual food festival is back! Scheduled around Bastille day\, the community of French food importers get together to offer food\, wine and cheese accompanied by music and events. It’s open from 10:00 to 21:00 every day (20:00 on Sunday when the wine runs out!)
URL:http://www.unexpectedtraveller.com/prague-event/french-market/
LOCATION:Kampa Island\, Malá Strana\, Prague\, 118 00\, Czech Republic
ATTACH;FMTTYPE=image/jpeg:http://www.unexpectedtraveller.com/wp-content/uploads/2025/07/french.jpg
END:VEVENT
BEGIN:VEVENT
DTSTART;TZID=Europe/Prague:20250626T200000
DTEND;TZID=Europe/Prague:20250626T220000
DTSTAMP:20260424T022319
CREATED:20250623T070000Z
LAST-MODIFIED:20250627T135332Z
UID:18123-1750968000-1750975200@www.unexpectedtraveller.com
SUMMARY:Il Divo (XX anniversary tour)
DESCRIPTION:They’re a quartet who have redefined what classical music should sound\, or look\, like. It’s been some time since they last were in Prague\, and there’s tickets left in almost every price range.
URL:http://www.unexpectedtraveller.com/prague-event/il-divo-xx-anniversary-tour/
LOCATION:O2 Arena\, Českomoravská 2345/17a\, Prague 9\, Prague\, 190 00\, Czech Republic
ATTACH;FMTTYPE=image/jpeg:http://www.unexpectedtraveller.com/wp-content/uploads/2025/06/divo.jpg
END:VEVENT
BEGIN:VEVENT
DTSTART;TZID=Europe/Prague:20250621T000000
DTEND;TZID=Europe/Prague:20250622T235959
DTSTAMP:20260424T022319
CREATED:20250616T070000Z
LAST-MODIFIED:20250624T180919Z
UID:17816-1750464000-1750636799@www.unexpectedtraveller.com
SUMMARY:In the Solitude of Cotton Fields
DESCRIPTION:Hollywood legend John Malkovich takes to the theatre in Prague this weekend in an enigmatic work at Divadlo Hybernia. Tickets are already sold out for Saturday\, but maybe you’ll be lucky for Sunday evening. \n\n\n\nPerformances start at 20:00.
URL:http://www.unexpectedtraveller.com/prague-event/in-the-solitude-of-cotton-fields/
LOCATION:Divadlo Hybernia\, Náměstí Republiky 3/4\, Nové Město\, Prague\, 110 00\, Czech Republic
ATTACH;FMTTYPE=image/jpeg:http://www.unexpectedtraveller.com/wp-content/uploads/2025/05/Malkovich-2.jpg
END:VEVENT
BEGIN:VEVENT
DTSTART;TZID=Europe/Prague:20250619T000000
DTEND;TZID=Europe/Prague:20260208T235959
DTSTAMP:20260424T022319
CREATED:20250630T070200Z
LAST-MODIFIED:20250707T092306Z
UID:18244-1750291200-1770595199@www.unexpectedtraveller.com
SUMMARY:David Lynch: Up in flames
DESCRIPTION:Dark\, disturbing and twisted is how I would describe David Lynch’s private collection of art\, short films and lithographs. I wasn’t expecting this based on his films\, but you can see where his films get some of their moments from the exhibition. The depths of the late Lynch’s mind are uncovered as never before at the DOX centre for contemporary art.
URL:http://www.unexpectedtraveller.com/prague-event/david-lynch-up-in-flames/
LOCATION:DOX centre for contemporary art\, Poupětova 1\, Holešovice\, Prague\, 170 00\, Czech Republic
ATTACH;FMTTYPE=image/jpeg:http://www.unexpectedtraveller.com/wp-content/uploads/2025/06/lynch.jpg
END:VEVENT
BEGIN:VEVENT
DTSTART;TZID=Europe/Prague:20250618T200000
DTEND;TZID=Europe/Prague:20250618T230000
DTSTAMP:20260424T022319
CREATED:20250609T070000Z
LAST-MODIFIED:20250616T080936Z
UID:17948-1750276800-1750287600@www.unexpectedtraveller.com
SUMMARY:Kool & the Gang
DESCRIPTION:R&B\, soul and funk will hit Bohemia when Kool & the Gang perform at the O2 this month. Their songs are familiar toe-tapping favourites\, so expect a packed audience.
URL:http://www.unexpectedtraveller.com/prague-event/kool-the-gang/
LOCATION:O2 Arena\, Českomoravská 2345/17a\, Prague 9\, Prague\, 190 00\, Czech Republic
ATTACH;FMTTYPE=image/jpeg:http://www.unexpectedtraveller.com/wp-content/uploads/2025/06/KATG.jpg
END:VEVENT
BEGIN:VEVENT
DTSTART;TZID=Europe/Prague:20250614T190000
DTEND;TZID=Europe/Prague:20250614T233000
DTSTAMP:20260424T022319
CREATED:20250605T070000Z
LAST-MODIFIED:20250606T162202Z
UID:17830-1749927600-1749943800@www.unexpectedtraveller.com
SUMMARY:Night of the Museums
DESCRIPTION:Prague’s annual Night of the Museums has returned after a hiatus. Sixty museums\, art galleries and cultural locations will welcome visitors next Saturday night. There’s a long programme\, and not everything may be to your liking. I have my eye on Vyšehrad underground which is not normally open to the public.
URL:http://www.unexpectedtraveller.com/prague-event/night-of-the-museums/
LOCATION:Praha 9
ATTACH;FMTTYPE=image/jpeg:http://www.unexpectedtraveller.com/wp-content/uploads/2025/06/20190616_130928.jpg
END:VEVENT
BEGIN:VEVENT
DTSTART;TZID=Europe/Prague:20250603T190000
DTEND;TZID=Europe/Prague:20250603T210000
DTSTAMP:20260424T022319
CREATED:20250526T070000Z
LAST-MODIFIED:20250603T102123Z
UID:17525-1748977200-1748984400@www.unexpectedtraveller.com
SUMMARY:Celtic Legends
DESCRIPTION:An evening of Irish dancing jigs its way to Prague (and other Czech cities). It’s not the sort of thing we see regularly but perhaps it is possible to have too much of a good thing\, isn’t it?
URL:http://www.unexpectedtraveller.com/prague-event/celtic-legends/
LOCATION:Prague Congress Centre\, 5. května 1640/65\, Nusle\, Prague\, 140 21\, Czech Republic
ATTACH;FMTTYPE=image/jpeg:http://www.unexpectedtraveller.com/wp-content/uploads/2025/05/CL-2.jpg
END:VEVENT
BEGIN:VEVENT
DTSTART;TZID=Europe/Prague:20250528T000000
DTEND;TZID=Europe/Prague:20250529T235959
DTSTAMP:20260424T022319
CREATED:20250517T140316Z
LAST-MODIFIED:20250527T082809Z
UID:17517-1748390400-1748563199@www.unexpectedtraveller.com
SUMMARY:Ludovico Einaudi
DESCRIPTION:Italian composer and musician Ludovico Einaudi will make audiences swoon later this month as he hosts two concerts of his own music. Concerts start at 8pm and tickets are hard to find\, but some will be released a few days’ before so mark your calendars!
URL:http://www.unexpectedtraveller.com/prague-event/ludovico-einaudi/
LOCATION:O2 Arena\, Českomoravská 2345/17a\, Prague 9\, Prague\, 190 00\, Czech Republic
ATTACH;FMTTYPE=image/jpeg:http://www.unexpectedtraveller.com/wp-content/uploads/2025/05/LE-2.jpg
END:VEVENT
BEGIN:VEVENT
DTSTART;TZID=Europe/Prague:20250517T000000
DTEND;TZID=Europe/Prague:20250519T235959
DTSTAMP:20260424T022319
CREATED:20250512T114658Z
LAST-MODIFIED:20250517T140429Z
UID:17463-1747440000-1747699199@www.unexpectedtraveller.com
SUMMARY:Underground tour of Metro D line
DESCRIPTION:It’s not every day you get to see how a city changes\, is it? This weekend Prague’s transport company is offering you the chance to dive deep into the new metro D line and walk through the tunnels they’re excavating under our feet. You must register in advance for this opportunity of a lifetime! \n\n\n\nThe entrance is a construction site on the corner of Antala Staška and Na Strži streets. Make sure to wear appropriate footwear\, and remember that it will be cold underground.
URL:http://www.unexpectedtraveller.com/prague-event/underground-tour-of-metro-d-line/
LOCATION:Praha 9
ATTACH;FMTTYPE=image/jpeg:http://www.unexpectedtraveller.com/wp-content/uploads/2025/05/tunnel.jpg
END:VEVENT
BEGIN:VEVENT
DTSTART;TZID=Europe/Prague:20250512T000000
DTEND;TZID=Europe/Prague:20250603T235959
DTSTAMP:20260424T022319
CREATED:20241211T093630Z
LAST-MODIFIED:20241211T093635Z
UID:16247-1747008000-1748995199@www.unexpectedtraveller.com
SUMMARY:Prague Spring
DESCRIPTION:The annual spectacular Prague Spring concert features artists from all over the world. Showtimes vary from day to day\, and ticket costs vary depending on the performance.
URL:http://www.unexpectedtraveller.com/prague-event/prague-spring/
LOCATION:Rudolfinum\, Alšovo nábřezi 79/12\, Staré město\, Prague\, 110 00\, Czech Republic
END:VEVENT
BEGIN:VEVENT
DTSTART;TZID=Europe/Prague:20250424T110000
DTEND;TZID=Europe/Prague:20250424T220000
DTSTAMP:20260424T022319
CREATED:20250401T150205Z
LAST-MODIFIED:20260209T174534Z
UID:17092-1745492400-1745532000@www.unexpectedtraveller.com
SUMMARY:New York Pastrami Pop Up
DESCRIPTION:Prague’s doing a great job of leveraging its Holešovice market. The New York Pastrami Pop Up is now a regular on their calendar; this year\, after Easter. Info
URL:http://www.unexpectedtraveller.com/prague-event/new-york-pastrami-pop-up/
LOCATION:Holešovice Tržnice\, Bubenské nábř. 306\, Holešovice\, Prague\, 170 00
ATTACH;FMTTYPE=image/jpeg:http://www.unexpectedtraveller.com/wp-content/uploads/2025/04/PPU.jpg
END:VEVENT
BEGIN:VEVENT
DTSTART;TZID=Europe/Prague:20250407T000000
DTEND;TZID=Europe/Prague:20250413T235959
DTSTAMP:20260424T022319
CREATED:20250410T174058Z
LAST-MODIFIED:20250512T114707Z
UID:17190-1743984000-1744588799@www.unexpectedtraveller.com
SUMMARY:Prague Shell Days
DESCRIPTION:Prague’s love affair with seafood returns with a Shell Days promotion this weekend. Register online\, choose from many restaurants for a free portion with every dish you eat. Dobrou chuť!
URL:http://www.unexpectedtraveller.com/prague-event/prague-shell-days/
LOCATION:Praha 9
ATTACH;FMTTYPE=image/jpeg:http://www.unexpectedtraveller.com/wp-content/uploads/2025/04/Hopi.jpg
END:VEVENT
BEGIN:VEVENT
DTSTART;TZID=Europe/Prague:20250330T143000
DTEND;TZID=Europe/Prague:20250330T160000
DTSTAMP:20260424T022319
CREATED:20250326T191335Z
LAST-MODIFIED:20250401T150233Z
UID:17061-1743345000-1743350400@www.unexpectedtraveller.com
SUMMARY:American love stories
DESCRIPTION:Now the weather’s improving\, Open House Praha has guided tours for expats\, starting from this Sunday with American Love Stories in Prague! Site | Tickets
URL:http://www.unexpectedtraveller.com/prague-event/american-love-stories/
LOCATION:Praha 9
ATTACH;FMTTYPE=image/jpeg:http://www.unexpectedtraveller.com/wp-content/uploads/2025/03/thumb.jpg
END:VEVENT
BEGIN:VEVENT
DTSTART;TZID=Europe/Prague:20250325T190000
DTEND;TZID=Europe/Prague:20250325T210000
DTSTAMP:20260424T022319
CREATED:20250317T173926Z
LAST-MODIFIED:20250326T193924Z
UID:16987-1742929200-1742936400@www.unexpectedtraveller.com
SUMMARY:Open Mic Night
DESCRIPTION:For the brave\, there’s a regular open mic session at Metro Comedy Club. It’s a testing ground for new comedians\, or new jokes. Who knows\, you might catch one of my performances! Site 
URL:http://www.unexpectedtraveller.com/prague-event/open-mic-night/
LOCATION:Metro Comedy club\, Malostranské nám. 264/7\, Malá Strana\, Prague\, 118 00\, Czech Republic
ATTACH;FMTTYPE=image/png:http://www.unexpectedtraveller.com/wp-content/uploads/2025/03/mcc-2.png
END:VEVENT
BEGIN:VEVENT
DTSTART;TZID=Europe/Prague:20250319T000000
DTEND;TZID=Europe/Prague:20250413T235959
DTSTAMP:20260424T022319
CREATED:20250215T110650Z
LAST-MODIFIED:20250305T193450Z
UID:16805-1742342400-1744588799@www.unexpectedtraveller.com
SUMMARY:Prague restaurant week
DESCRIPTION:The world’s biggest restaurant festival is back in Prague! Eat a great meal at fixed prices\, and experiment with flavours. Where will you go? From March 19 till April 13 2025. Info | Register
URL:http://www.unexpectedtraveller.com/prague-event/prague-restaurant-week/
LOCATION:Praha 9
ATTACH;FMTTYPE=image/jpeg:http://www.unexpectedtraveller.com/wp-content/uploads/2025/02/restoweek-2-e1739617552584.jpg
END:VEVENT
END:VCALENDAR