BEGIN:VCALENDAR
VERSION:2.0
PRODID:-//The Unexpected Traveller - ECPv6.15.20//NONSGML v1.0//EN
CALSCALE:GREGORIAN
METHOD:PUBLISH
X-ORIGINAL-URL:https://www.unexpectedtraveller.com
X-WR-CALDESC:Events for The Unexpected Traveller
REFRESH-INTERVAL;VALUE=DURATION:PT1H
X-Robots-Tag:noindex
X-PUBLISHED-TTL:PT1H
BEGIN:VTIMEZONE
TZID:Europe/Prague
BEGIN:DAYLIGHT
TZOFFSETFROM:+0100
TZOFFSETTO:+0200
TZNAME:CEST
DTSTART:20240331T010000
END:DAYLIGHT
BEGIN:STANDARD
TZOFFSETFROM:+0200
TZOFFSETTO:+0100
TZNAME:CET
DTSTART:20241027T010000
END:STANDARD
BEGIN:DAYLIGHT
TZOFFSETFROM:+0100
TZOFFSETTO:+0200
TZNAME:CEST
DTSTART:20250330T010000
END:DAYLIGHT
BEGIN:STANDARD
TZOFFSETFROM:+0200
TZOFFSETTO:+0100
TZNAME:CET
DTSTART:20251026T010000
END:STANDARD
BEGIN:DAYLIGHT
TZOFFSETFROM:+0100
TZOFFSETTO:+0200
TZNAME:CEST
DTSTART:20260329T010000
END:DAYLIGHT
BEGIN:STANDARD
TZOFFSETFROM:+0200
TZOFFSETTO:+0100
TZNAME:CET
DTSTART:20261025T010000
END:STANDARD
END:VTIMEZONE
BEGIN:VEVENT
DTSTART;TZID=Europe/Prague:20250512T000000
DTEND;TZID=Europe/Prague:20250603T235959
DTSTAMP:20260424T142557
CREATED:20241211T093630Z
LAST-MODIFIED:20241211T093635Z
UID:16247-1747008000-1748995199@www.unexpectedtraveller.com
SUMMARY:Prague Spring
DESCRIPTION:The annual spectacular Prague Spring concert features artists from all over the world. Showtimes vary from day to day\, and ticket costs vary depending on the performance.
URL:https://www.unexpectedtraveller.com/prague-event/prague-spring/
LOCATION:Rudolfinum\, Alšovo nábřezi 79/12\, Staré město\, Prague\, 110 00\, Czech Republic
END:VEVENT
BEGIN:VEVENT
DTSTART;TZID=Europe/Prague:20250528T000000
DTEND;TZID=Europe/Prague:20250529T235959
DTSTAMP:20260424T142557
CREATED:20250517T140316Z
LAST-MODIFIED:20250527T082809Z
UID:17517-1748390400-1748563199@www.unexpectedtraveller.com
SUMMARY:Ludovico Einaudi
DESCRIPTION:Italian composer and musician Ludovico Einaudi will make audiences swoon later this month as he hosts two concerts of his own music. Concerts start at 8pm and tickets are hard to find\, but some will be released a few days’ before so mark your calendars!
URL:https://www.unexpectedtraveller.com/prague-event/ludovico-einaudi/
LOCATION:O2 Arena\, Českomoravská 2345/17a\, Prague 9\, Prague\, 190 00\, Czech Republic
ATTACH;FMTTYPE=image/jpeg:https://www.unexpectedtraveller.com/wp-content/uploads/2025/05/LE-2.jpg
END:VEVENT
END:VCALENDAR