BEGIN:VCALENDAR
VERSION:2.0
PRODID:-//The Unexpected Traveller - ECPv6.15.20//NONSGML v1.0//EN
CALSCALE:GREGORIAN
METHOD:PUBLISH
X-ORIGINAL-URL:https://www.unexpectedtraveller.com
X-WR-CALDESC:Events for The Unexpected Traveller
REFRESH-INTERVAL;VALUE=DURATION:PT1H
X-Robots-Tag:noindex
X-PUBLISHED-TTL:PT1H
BEGIN:VTIMEZONE
TZID:Europe/Prague
BEGIN:DAYLIGHT
TZOFFSETFROM:+0100
TZOFFSETTO:+0200
TZNAME:CEST
DTSTART:20240331T010000
END:DAYLIGHT
BEGIN:STANDARD
TZOFFSETFROM:+0200
TZOFFSETTO:+0100
TZNAME:CET
DTSTART:20241027T010000
END:STANDARD
BEGIN:DAYLIGHT
TZOFFSETFROM:+0100
TZOFFSETTO:+0200
TZNAME:CEST
DTSTART:20250330T010000
END:DAYLIGHT
BEGIN:STANDARD
TZOFFSETFROM:+0200
TZOFFSETTO:+0100
TZNAME:CET
DTSTART:20251026T010000
END:STANDARD
BEGIN:DAYLIGHT
TZOFFSETFROM:+0100
TZOFFSETTO:+0200
TZNAME:CEST
DTSTART:20260329T010000
END:DAYLIGHT
BEGIN:STANDARD
TZOFFSETFROM:+0200
TZOFFSETTO:+0100
TZNAME:CET
DTSTART:20261025T010000
END:STANDARD
END:VTIMEZONE
BEGIN:VEVENT
DTSTART;TZID=Europe/Prague:20250618T200000
DTEND;TZID=Europe/Prague:20250618T230000
DTSTAMP:20260424T142557
CREATED:20250609T070000Z
LAST-MODIFIED:20250616T080936Z
UID:17948-1750276800-1750287600@www.unexpectedtraveller.com
SUMMARY:Kool & the Gang
DESCRIPTION:R&B\, soul and funk will hit Bohemia when Kool & the Gang perform at the O2 this month. Their songs are familiar toe-tapping favourites\, so expect a packed audience.
URL:https://www.unexpectedtraveller.com/prague-event/kool-the-gang/
LOCATION:O2 Arena\, Českomoravská 2345/17a\, Prague 9\, Prague\, 190 00\, Czech Republic
ATTACH;FMTTYPE=image/jpeg:https://www.unexpectedtraveller.com/wp-content/uploads/2025/06/KATG.jpg
END:VEVENT
END:VCALENDAR