BEGIN:VCALENDAR
VERSION:2.0
PRODID:-//The Unexpected Traveller - ECPv6.15.20//NONSGML v1.0//EN
CALSCALE:GREGORIAN
METHOD:PUBLISH
X-WR-CALNAME:The Unexpected Traveller
X-ORIGINAL-URL:https://www.unexpectedtraveller.com
X-WR-CALDESC:Events for The Unexpected Traveller
REFRESH-INTERVAL;VALUE=DURATION:PT1H
X-Robots-Tag:noindex
X-PUBLISHED-TTL:PT1H
BEGIN:VTIMEZONE
TZID:Europe/Prague
BEGIN:DAYLIGHT
TZOFFSETFROM:+0100
TZOFFSETTO:+0200
TZNAME:CEST
DTSTART:20230326T010000
END:DAYLIGHT
BEGIN:STANDARD
TZOFFSETFROM:+0200
TZOFFSETTO:+0100
TZNAME:CET
DTSTART:20231029T010000
END:STANDARD
BEGIN:DAYLIGHT
TZOFFSETFROM:+0100
TZOFFSETTO:+0200
TZNAME:CEST
DTSTART:20240331T010000
END:DAYLIGHT
BEGIN:STANDARD
TZOFFSETFROM:+0200
TZOFFSETTO:+0100
TZNAME:CET
DTSTART:20241027T010000
END:STANDARD
BEGIN:DAYLIGHT
TZOFFSETFROM:+0100
TZOFFSETTO:+0200
TZNAME:CEST
DTSTART:20250330T010000
END:DAYLIGHT
BEGIN:STANDARD
TZOFFSETFROM:+0200
TZOFFSETTO:+0100
TZNAME:CET
DTSTART:20251026T010000
END:STANDARD
BEGIN:DAYLIGHT
TZOFFSETFROM:+0100
TZOFFSETTO:+0200
TZNAME:CEST
DTSTART:20260329T010000
END:DAYLIGHT
BEGIN:STANDARD
TZOFFSETFROM:+0200
TZOFFSETTO:+0100
TZNAME:CET
DTSTART:20261025T010000
END:STANDARD
END:VTIMEZONE
BEGIN:VEVENT
DTSTART;TZID=Europe/Prague:20250407T000000
DTEND;TZID=Europe/Prague:20250413T235959
DTSTAMP:20260424T100144
CREATED:20250410T174058Z
LAST-MODIFIED:20250512T114707Z
UID:17190-1743984000-1744588799@www.unexpectedtraveller.com
SUMMARY:Prague Shell Days
DESCRIPTION:Prague’s love affair with seafood returns with a Shell Days promotion this weekend. Register online\, choose from many restaurants for a free portion with every dish you eat. Dobrou chuť!
URL:https://www.unexpectedtraveller.com/prague-event/prague-shell-days/
LOCATION:Prague
ATTACH;FMTTYPE=image/jpeg:https://www.unexpectedtraveller.com/wp-content/uploads/2025/04/Hopi.jpg
END:VEVENT
BEGIN:VEVENT
DTSTART;TZID=Europe/Prague:20250330T143000
DTEND;TZID=Europe/Prague:20250330T160000
DTSTAMP:20260424T100144
CREATED:20250326T191335Z
LAST-MODIFIED:20250401T150233Z
UID:17061-1743345000-1743350400@www.unexpectedtraveller.com
SUMMARY:American love stories
DESCRIPTION:Now the weather’s improving\, Open House Praha has guided tours for expats\, starting from this Sunday with American Love Stories in Prague! Site | Tickets
URL:https://www.unexpectedtraveller.com/prague-event/american-love-stories/
LOCATION:Prague
ATTACH;FMTTYPE=image/jpeg:https://www.unexpectedtraveller.com/wp-content/uploads/2025/03/thumb.jpg
END:VEVENT
BEGIN:VEVENT
DTSTART;TZID=Europe/Prague:20250325T190000
DTEND;TZID=Europe/Prague:20250325T210000
DTSTAMP:20260424T100144
CREATED:20250317T173926Z
LAST-MODIFIED:20250326T193924Z
UID:16987-1742929200-1742936400@www.unexpectedtraveller.com
SUMMARY:Open Mic Night
DESCRIPTION:For the brave\, there’s a regular open mic session at Metro Comedy Club. It’s a testing ground for new comedians\, or new jokes. Who knows\, you might catch one of my performances! Site 
URL:https://www.unexpectedtraveller.com/prague-event/open-mic-night/
LOCATION:Metro Comedy club\, Malostranské nám. 264/7\, Malá Strana\, Prague\, 118 00\, Czech Republic
ATTACH;FMTTYPE=image/png:https://www.unexpectedtraveller.com/wp-content/uploads/2025/03/mcc-2.png
END:VEVENT
BEGIN:VEVENT
DTSTART;TZID=Europe/Prague:20250319T000000
DTEND;TZID=Europe/Prague:20250413T235959
DTSTAMP:20260424T100144
CREATED:20250215T110650Z
LAST-MODIFIED:20250305T193450Z
UID:16805-1742342400-1744588799@www.unexpectedtraveller.com
SUMMARY:Prague restaurant week
DESCRIPTION:The world’s biggest restaurant festival is back in Prague! Eat a great meal at fixed prices\, and experiment with flavours. Where will you go? From March 19 till April 13 2025. Info | Register
URL:https://www.unexpectedtraveller.com/prague-event/prague-restaurant-week/
LOCATION:Prague
ATTACH;FMTTYPE=image/jpeg:https://www.unexpectedtraveller.com/wp-content/uploads/2025/02/restoweek-2-e1739617552584.jpg
END:VEVENT
BEGIN:VEVENT
DTSTART;TZID=Europe/Prague:20250319T000000
DTEND;TZID=Europe/Prague:20250406T235959
DTSTAMP:20260424T100144
CREATED:20250305T193417Z
LAST-MODIFIED:20250312T092034Z
UID:16907-1742342400-1743983999@www.unexpectedtraveller.com
SUMMARY:Phantom of the Opera
DESCRIPTION:The world-famous phenomenon arrives in Prague for the first time! Spectacular in so many ways\, it really is something you have to experience. Tickets available for select dates between 19/03 and 06/04. Site | Tickets 
URL:https://www.unexpectedtraveller.com/prague-event/phantom-of-the-opera/
LOCATION:Prague Congress Centre\, 5. května 1640/65\, Nusle\, Prague\, 140 21\, Czech Republic
ATTACH;FMTTYPE=image/png:https://www.unexpectedtraveller.com/wp-content/uploads/2025/03/poto.png
END:VEVENT
BEGIN:VEVENT
DTSTART;TZID=Europe/Prague:20250314T000000
DTEND;TZID=Europe/Prague:20250316T235959
DTSTAMP:20260424T100144
CREATED:20250312T092018Z
LAST-MODIFIED:20250317T173948Z
UID:16948-1741910400-1742169599@www.unexpectedtraveller.com
SUMMARY:Viniale
DESCRIPTION:Wine 🍷 tastings\, live music & light shows! Viniale promises to be a great wine festival with 50 vineyards participating. It’s a new event\, but maybe it’ll become a regular fixture on our cultural calendar!  \n\n\n\nDaily from 12:00 – 23:00 | Site 
URL:https://www.unexpectedtraveller.com/prague-event/viniale/
LOCATION:Cubex Centrum Praha\, Na Strži 2097/63\, Nusle\, Prague\, 140 00\, Czech Republic
ATTACH;FMTTYPE=image/jpeg:https://www.unexpectedtraveller.com/wp-content/uploads/2025/03/vprg.jpg
END:VEVENT
BEGIN:VEVENT
DTSTART;TZID=Europe/Prague:20250304T200000
DTEND;TZID=Europe/Prague:20250304T220000
DTSTAMP:20260424T100144
CREATED:20250212T175816Z
LAST-MODIFIED:20250215T110716Z
UID:16773-1741118400-1741125600@www.unexpectedtraveller.com
SUMMARY:Candace Bushnell - Sex and the City
DESCRIPTION:The real-life Carrie Bradshaw comes to Prague next month. Her live Sex and the City show covers her experiences of New York life\, and is the source for the eponymous TV series. Tickets
URL:https://www.unexpectedtraveller.com/prague-event/candace-bushnell-sex-and-the-city/
LOCATION:Prague Congress Centre\, 5. května 1640/65\, Nusle\, Prague\, 140 21\, Czech Republic
ATTACH;FMTTYPE=image/jpeg:https://www.unexpectedtraveller.com/wp-content/uploads/2025/02/SATC.jpg
END:VEVENT
BEGIN:VEVENT
DTSTART;TZID=Europe/Prague:20250302T200000
DTEND;TZID=Europe/Prague:20250302T213000
DTSTAMP:20260424T100144
CREATED:20250204T050035Z
LAST-MODIFIED:20250212T175950Z
UID:16711-1740945600-1740951000@www.unexpectedtraveller.com
SUMMARY:Michelle Wolf stand up
DESCRIPTION:Award-winning American comedienne Michelle Wolf brings her unique comedy (and nasal twang) to Prague in March. Last few tickets available! Tickets
URL:https://www.unexpectedtraveller.com/prague-event/michelle-wolf-stand-up/
LOCATION:Divadlo Hybernia\, Náměstí Republiky 3/4\, Nové Město\, Prague\, 110 00\, Czech Republic
ATTACH;FMTTYPE=image/jpeg:https://www.unexpectedtraveller.com/wp-content/uploads/2025/02/mwolf-2.jpg
END:VEVENT
BEGIN:VEVENT
DTSTART;TZID=Europe/Prague:20250211T183000
DTEND;TZID=Europe/Prague:20250211T210000
DTSTAMP:20260424T100144
CREATED:20250117T035724Z
LAST-MODIFIED:20250117T035728Z
UID:16552-1739298600-1739307600@www.unexpectedtraveller.com
SUMMARY:Pasion de Buena Vista
DESCRIPTION:Cuban music will hit Prague when the Buena Vista Social Club perform in February. Expect plenty of razzle-dazzle! Hurry\, few tickets are still available! Tickets
URL:https://www.unexpectedtraveller.com/prague-event/pasion-de-buena-vista/
LOCATION:Divadlo Hybernia\, Náměstí Republiky 3/4\, Nové Město\, Prague\, 110 00\, Czech Republic
ATTACH;FMTTYPE=image/jpeg:https://www.unexpectedtraveller.com/wp-content/uploads/2025/01/Pasion-2.jpg
END:VEVENT
BEGIN:VEVENT
DTSTART;TZID=Europe/Prague:20250123T193000
DTEND;TZID=Europe/Prague:20250123T210000
DTSTAMP:20260424T100144
CREATED:20250121T085251Z
LAST-MODIFIED:20250122T210324Z
UID:16602-1737660600-1737666000@www.unexpectedtraveller.com
SUMMARY:Up End Down
DESCRIPTION:Contemporary circus performances don’t get any better than this – 75 minutes of award-winning acrobatics\, drama and spectacle. Warning There’s plenty of dialogue so knowledge of Czech is a must. Site | Tickets
URL:https://www.unexpectedtraveller.com/prague-event/up-end-down/
LOCATION:Jatka 78\, Hala číslo 7 a 8\, Bubenské nábř. 306 /13\, Holešovice\, Prague\, 170 00\, Czech Republic
ATTACH;FMTTYPE=image/jpeg:https://www.unexpectedtraveller.com/wp-content/uploads/2025/01/UED.jpg
END:VEVENT
BEGIN:VEVENT
DTSTART;TZID=Europe/Prague:20241219T183000
DTEND;TZID=Europe/Prague:20241219T203000
DTSTAMP:20260424T100144
CREATED:20241209T094256Z
LAST-MODIFIED:20241209T094258Z
UID:16221-1734633000-1734640200@www.unexpectedtraveller.com
SUMMARY:Home Alone (Christmas feature)
DESCRIPTION:At Manifesto market\, Andel \n\n\n\n\n\n\n\n\n\nhttps://www.manifestomarket.com/prague/andel/en/reservations?fbclid=IwY2xjawHDmn9leHRuA2FlbQIxMAABHV8S721tQp3jY1nQt_MrK3wxR5Kz30a3wu-3p5CEp2zrayS9_AsHJVGJPg_aem_JhzaZdgJDgN5a0Ep5AQmjw
URL:https://www.unexpectedtraveller.com/prague-event/home-alone-christmas-feature/
LOCATION:Prague
END:VEVENT
BEGIN:VEVENT
DTSTART;TZID=Europe/Prague:20241215T160000
DTEND;TZID=Europe/Prague:20241215T190000
DTSTAMP:20260424T100144
CREATED:20241209T173714Z
LAST-MODIFIED:20241209T173759Z
UID:16237-1734278400-1734289200@www.unexpectedtraveller.com
SUMMARY:Kino Eats
DESCRIPTION:Christmas films are part of the tradition right? (Die Hard’s seasonal\, right?) Manifesto Market’s turning this into a group event. Start with Love Actually!
URL:https://www.unexpectedtraveller.com/prague-event/kino-eats/
LOCATION:Manifesto Market\, Ostrovského 34\, Praha 5-Anděl\, Prague\, 150 00\, Czech Republic
ATTACH;FMTTYPE=image/jpeg:https://www.unexpectedtraveller.com/wp-content/uploads/2024/12/la.jpg
END:VEVENT
BEGIN:VEVENT
DTSTART;TZID=Europe/Prague:20241213T170000
DTEND;TZID=Europe/Prague:20241213T230000
DTSTAMP:20260424T100144
CREATED:20241209T094454Z
LAST-MODIFIED:20241209T152226Z
UID:16223-1734109200-1734130800@www.unexpectedtraveller.com
SUMMARY:Troja Castle SIGNAL light show
DESCRIPTION:No reservation needed
URL:https://www.unexpectedtraveller.com/prague-event/troja-castle-signal-light-show/
LOCATION:Troja Castle\, Troja Castle\, U Trojského zámku 4/1\, Prague 7\, Prague\, Prague\, 170 00\, Czech Republic
END:VEVENT
BEGIN:VEVENT
DTSTART;TZID=Europe/Prague:20241117T000000
DTEND;TZID=Europe/Prague:20241117T235959
DTSTAMP:20260424T100144
CREATED:20250121T093604Z
LAST-MODIFIED:20250121T093608Z
UID:16614-1731801600-1731887999@www.unexpectedtraveller.com
SUMMARY:Free access to National Gallery
DESCRIPTION:The National Gallery will be open for free on Sunday 17th. Exhibitions aside\, Schwarzenberg palace really merits a visit of its own. Map | Site
URL:https://www.unexpectedtraveller.com/prague-event/free-access-to-national-gallery/
LOCATION:Prague
ATTACH;FMTTYPE=image/jpeg:https://www.unexpectedtraveller.com/wp-content/uploads/2025/01/73f01aa4-007f-903f-f04e-f77a0128d1d8.jpg
END:VEVENT
BEGIN:VEVENT
DTSTART;TZID=Europe/Prague:20241116T000000
DTEND;TZID=Europe/Prague:20250223T235959
DTSTAMP:20260424T100144
CREATED:20250121T093005Z
LAST-MODIFIED:20250121T093010Z
UID:16607-1731715200-1740355199@www.unexpectedtraveller.com
SUMMARY:Ice skating
DESCRIPTION:Since it’s that time of the year\, ice rinks have started popping up around the city. For expats and locals\, the one in Letna offers free access to kids under 15. Map | Site 
URL:https://www.unexpectedtraveller.com/prague-event/ice-skating/
LOCATION:Prague
ATTACH;FMTTYPE=image/jpeg:https://www.unexpectedtraveller.com/wp-content/uploads/2025/01/6c13a5e0-a0b9-35c8-a76d-3ddaa9c22140.jpg
END:VEVENT
BEGIN:VEVENT
DTSTART;TZID=Europe/Prague:20241113T110000
DTEND;TZID=Europe/Prague:20250118T190000
DTSTAMP:20260424T100144
CREATED:20241202T145542Z
LAST-MODIFIED:20241202T145545Z
UID:16177-1731495600-1737226800@www.unexpectedtraveller.com
SUMMARY:Fotogrammi di moda italiana
DESCRIPTION:Iconic movie dresses worn by legendary actresses like Audrey Hepburn\, Sophia Loren\, and Gina Lollobrigida are currently showcased at the Italian Cultural Institute in Prague. Among them is Anita Ekberg’s renowned black gown from Federico Fellini’s La Dolce Vita. \n\n\n\nEntry at Cappella barocca\, Vlašská 34\, 118 00 Praga 1 \n\n\n\nClosed on Sundays
URL:https://www.unexpectedtraveller.com/prague-event/fotogrammi-di-moda-italiana/
LOCATION:Italian Cultural Institute\, Šporkova 14\, Mala Strana\, Praha\, 118 00
END:VEVENT
BEGIN:VEVENT
DTSTART;TZID=Europe/Prague:20241112T000000
DTEND;TZID=Europe/Prague:20250223T235959
DTSTAMP:20260424T100144
CREATED:20250108T115832Z
LAST-MODIFIED:20250108T115836Z
UID:16455-1731369600-1740355199@www.unexpectedtraveller.com
SUMMARY:Helena Wilson: Photography
DESCRIPTION:A unique Czech-Canadian perspective on life through the lens of Helena Wilson. It’s great to see Prague honouring its underground artists like this. Site 
URL:https://www.unexpectedtraveller.com/prague-event/helena-wilson-photography/
LOCATION:House of Photography\, Revoluční 1006/5\, Staré Město\, Prague\, 110 00\, Czech Republic
ATTACH;FMTTYPE=image/jpeg:https://www.unexpectedtraveller.com/wp-content/uploads/2025/01/HWilson.jpg
END:VEVENT
BEGIN:VEVENT
DTSTART;TZID=Europe/Prague:20241109T190000
DTEND;TZID=Europe/Prague:20241109T210000
DTSTAMP:20260424T100144
CREATED:20250121T093804Z
LAST-MODIFIED:20250401T151156Z
UID:16619-1731178800-1731186000@www.unexpectedtraveller.com
SUMMARY:Rudolf Firkušný Piano Festival
DESCRIPTION:This year’s Rudolf Firkušný Piano Festival closes with a performance by the acclaimed Jean-Efflam Bavouzet. Site | Tickets
URL:https://www.unexpectedtraveller.com/prague-event/rudolf-firkusny-piano-festival/
LOCATION:Rudolfinum\, Alšovo nábřezi 79/12\, Staré město\, Prague\, 110 00\, Czech Republic
ATTACH;FMTTYPE=image/jpeg:https://www.unexpectedtraveller.com/wp-content/uploads/2025/01/d8fdbc22-509e-2efa-fad5-1b3ff0371d70.jpg
END:VEVENT
BEGIN:VEVENT
DTSTART;TZID=Europe/Prague:20241102T190000
DTEND;TZID=Europe/Prague:20241102T203000
DTSTAMP:20260424T100144
CREATED:20250121T125636Z
LAST-MODIFIED:20250401T151152Z
UID:16624-1730574000-1730579400@www.unexpectedtraveller.com
SUMMARY:The Merchant of Venice
DESCRIPTION:It’s not every day you can enjoy theatre performances in English in Prague. The Shakespeare company performs The Merchant of Venice for one night only! Site | Tickets
URL:https://www.unexpectedtraveller.com/prague-event/the-merchant-of-venice/
LOCATION:Prague
ATTACH;FMTTYPE=image/jpeg:https://www.unexpectedtraveller.com/wp-content/uploads/2025/01/7c8e27ab-fd8a-2d29-97f9-390f10e1bb89.jpg
END:VEVENT
BEGIN:VEVENT
DTSTART;TZID=Europe/Prague:20241101T000000
DTEND;TZID=Europe/Prague:20250131T235959
DTSTAMP:20260424T100144
CREATED:20241212T074138Z
LAST-MODIFIED:20250401T151200Z
UID:16265-1730419200-1738367999@www.unexpectedtraveller.com
SUMMARY:Lights Tell Stories ... 
DESCRIPTION:Over 100 light sculptures connect space with the festivities after dark. Better than the repetitive Christmas markets\, and there’s mulled wine too! Open daily from 16:00 to 19:00. Site (CZ)
URL:https://www.unexpectedtraveller.com/prague-event/lights-tell-stories/
LOCATION:Žluté lázně\, Podolské nábřezi 3/1184\, Podoli\, Prague\, 140 00\, Czech Republic
ATTACH;FMTTYPE=image/png:https://www.unexpectedtraveller.com/wp-content/uploads/2024/12/fw.png
END:VEVENT
BEGIN:VEVENT
DTSTART;TZID=Europe/Prague:20241028T000000
DTEND;TZID=Europe/Prague:20241028T235959
DTSTAMP:20260424T100144
CREATED:20250121T125847Z
LAST-MODIFIED:20250401T151151Z
UID:16626-1730073600-1730159999@www.unexpectedtraveller.com
SUMMARY:Clam-Gallas tours
DESCRIPTION:The historic Clam-Gallas palace is running free tours for the holiday\, along with many other establishments. Reservations required because it will be a popular destination. Reservations | Site 
URL:https://www.unexpectedtraveller.com/prague-event/clam-gallas-tours/
LOCATION:Prague
ATTACH;FMTTYPE=image/jpeg:https://www.unexpectedtraveller.com/wp-content/uploads/2025/01/a886d4e6-45f4-1672-87b8-362fe0441ce1.jpg
END:VEVENT
BEGIN:VEVENT
DTSTART;TZID=Europe/Prague:20240920T000000
DTEND;TZID=Europe/Prague:20250119T235959
DTSTAMP:20260424T100144
CREATED:20250121T093252Z
LAST-MODIFIED:20250401T151150Z
UID:16611-1726790400-1737331199@www.unexpectedtraveller.com
SUMMARY:Bruce Webers Exhibition
DESCRIPTION:I’m looking forward to the Bruce Weber photography exhibition at the Stone Bell House. Vogue\, GQ\, Vanity Fair – He rivals Helmut Newton in my book. Map | Site | Tickets
URL:https://www.unexpectedtraveller.com/prague-event/bruce-webers-exhibition/
LOCATION:Prague
ATTACH;FMTTYPE=image/jpeg:https://www.unexpectedtraveller.com/wp-content/uploads/2025/01/bce78aa7-045f-f201-d27d-6d701a588a33.jpg
END:VEVENT
END:VCALENDAR